<?xml version="1.0" encoding="UTF-8"?>
<metadata>
<idinfo>
<citation>
<citeinfo>
<origin>James W. Sewall Company</origin>
<origin>Save The Bay</origin>
<origin>Narragansett Bay National Estuarine Research Reserve</origin>
<origin>University of Rhode Island Environmental Data Center</origin>
<pubdate>200911</pubdate>
<title Sync="TRUE">2006 NBNERR - Save the Bay - URI 1:12,000 Digital True Color Orthophotography</title>
<geoform Sync="TRUE">remote-sensing image</geoform>
<pubinfo>
<pubplace>Kingston, RI</pubplace>
<publish>University of Rhode Island Environmental Data Center</publish>
</pubinfo>
<othercit>Suggested bibliographic reference: RIGIS, 2009. 2006 NBNERR - Save the Bay - URI 1:12,000 Digital True Color Orthophotography 1:12,000 Digital True Color Orthophotography. Rhode Island Geographic Information System (RIGIS) Data Distribution System, URL: http://www.edc.uri.edu/rigis, Environmental Data Center, University of Rhode Island, Kingston, Rhode Island (last date accessed: 16 November 2009).</othercit>
<onlink>http://www.edc.uri.edu/rigis</onlink>
<lworkcit>
<citeinfo>
<origin>Rhode Island Geographic Information System (RIGIS)</origin>
<pubdate>1993</pubdate>
<title>Rhode Island Geographic Information System (RIGIS) Data Distribution System</title>
<onlink>http://www.edc.uri.edu/rigis</onlink>
</citeinfo>
</lworkcit>
</citeinfo>
</citation>
<descript>
<abstract>Narragansett Bay orthophotography, prints, and transparancies were taken during late summer of 2006.  Orthophotography is 1:12000 scale and 0.5m resolution.  Block Island is also included in the project area.</abstract>
<purpose>Orthophotography was collected for use by the Narragansett Bay National Estuarine Research Reserve, Save the Bay, and the University of Rhode Island Environmental Data Center to map and delineate shallow-subtidal estuarine habitats, specifically submerged aquatic vegetation.</purpose>
<supplinf>
See the following report for more information regarding these orthophotographs and the project that these are associated with:

Bradley, M., K. Raposa, and S. Tuxbury. 2007. Report on the Analysis of True Color Aerial Photography to Map and Inventory Zostera marina L. in Narragansett Bay and Block Island, Rhode Island. Page 1-16 and 9 Mapsheets. Rhode Island Natural History Survey, Kingston, RI.

Report available for download at http://www.ci.uri.edu/projects/mapcoast/resources.html.
</supplinf>
</descript>
<timeperd>
<timeinfo>
<sngdate>
<caldate>August 5, 2006</caldate>
<time>morning</time>
</sngdate>
</timeinfo>
<current>ground condition</current>
</timeperd>
<status>
<progress>Complete</progress>
<update>None planned</update>
</status>
<spdom>
<bounding>
<westbc Sync="TRUE">-71.625</westbc>
<eastbc Sync="TRUE">-71.095</eastbc>
<northbc Sync="TRUE">41.845</northbc>
<southbc Sync="TRUE">41.125</southbc>
</bounding>
</spdom>
<keywords>
<theme Sync="TRUE">
<themekt>ISO 19115 Topic Category</themekt>
<themekey>imageryBaseMapsEarthCover</themekey>
</theme>
<theme>
<themekt>none</themekt>
<themekey>aerial photography</themekey>
<themekey>digital orthophotography</themekey>
<themekey>aerials</themekey>
</theme>
<place Sync="TRUE">
<placekt>none</placekt>
<placekey>Rhode Island</placekey>
<placekey>New England</placekey>
<placekey>Northeast</placekey>
<placekey>New England</placekey>
<placekey>United States</placekey>
</place>
</keywords>
<accconst>These copyrighted data are distributed under the terms of the RIGIS license agreement. License terms include (1) restrictions on secondary distribution of these data, and (2) graphic displays and printed tabular listings derived from RIGIS data may be used in publications and presentations, provided that credit is given to RIGIS as the source of the information or that notice of copyright [e.g. (c) 2009 RIGIS] be shown. Please review the RIGIS license agreement at http://www.edc.uri.edu/rigis/license.html for more information before accessing these data.</accconst>
<useconst>This dataset is provided for reference only.  These data were created for informational, planning and guidance use only. They are a general reference, not a legally authoritative source for the location of natural or manmade features. Proper interpretation of these data may requre the assistance of appropriate professional services. The cartographic representations depicted have not been verified by a RI Registered Professional Land Surveyor and are not intended to be used in place of a survey. The producer makes no warranty, express or implied, related to the accuracy, reliability, completeness, or currentness of these data.</useconst>
<ptcontac>
<cntinfo>
<cntorgp>
<cntorg>University of Rhode Island - Environmental Data Center</cntorg>
<cntper>Mike Bradley</cntper>
</cntorgp>
<cntpos>Research Associate</cntpos>
<cntaddr>
<addrtype>mailing and physical address</addrtype>
<address>University of Rhode Island</address>
<address>Department of Natural Resources Science</address>
<address>105 Coastal Institute Kingston</address>
<city>Kingston</city>
<state>RI</state>
<postal>02881-0804</postal>
<country>USA</country>
</cntaddr>
<cntvoice>401-874-5054</cntvoice>
<cntemail>mike@edc.uri.edu</cntemail>
</cntinfo>
</ptcontac>
<native Sync="TRUE">Microsoft Windows XP Version 5.1 (Build 2600) Service Pack 2; ESRI ArcCatalog 9.1.0.722</native>
</idinfo>
<dataqual>
<attracc>
<attraccr>The data are accurate to +/- 50 ft.</attraccr>
</attracc>
<logic>
These data are believed to be consistent because James W. Sewall Co. performed the following QA/QC techniques:
1) Calibration and internal check of airborne GPS and IMU devices.
2) Feature alignment from photo to photo was checked to assure project specifications.
3) Co-registration check of orthoimagery against downloaded sample datasets such as DOQQs
Orthoimages are also consistent with RIDOT 1:5000 Road Centerline data downloaded from RIGIS state repository of GIS data.  Sample observations were within +/- 15 feet of features.
</logic>
<complete>Data are complete.</complete>
<posacc>
<horizpa>
<horizpar>The data are accurate to +/- 50ft.</horizpar>
<qhorizpa>
<horizpae>The elevation data utilized for this project was USGS 1:24,000 DEMs.  The horizontal accuracy of this data is +/- 50ft.  Data accuracies of the rectified images cannot be guaranteed to be better than this input data set. However, listed accuracy of the airborne GPS and IMU devices is +/- 1ft.   And the rectified images correlated strongly with the 1:5K RIDOTcenterline road dataset although no formal tests were run.</horizpae>
</qhorizpa>
</horizpa>
<vertacc>
<vertaccr>10 feet.</vertaccr>
<qvertpa>
<vertacce>The vertical accuracy of USGS 1:24000 DEMs is 10feet.</vertacce>
</qvertpa>
</vertacc>
</posacc>
<lineage>
<procstep>
<procdesc>Aerial photographs were taken using a Zeiss RMK TOP camera using color AGFA x100 film.  They were taken in a series of 22 flight lines at an approximate average altitude of 10,000ft.  To insure photographs were suitable for photo interpretation of shallow-subtidal habitats, NOAA Coastal Change Analysis Program (C-CAP) protocols were followed.  Therefore, photographs were taken at a low sun angle, low wind, low tide, and high water clarity.  To achieve the desired 1:12000 scale, photos were scanned at a resolution of 675 dpi to yield a photo resolution of 0.5m.  Images were orthorectified using data from airborne GPS, IMU, and 1:24K USGS NED DEMs.  Images were then mosaiced using OrthoVista which allowed for a degree of automation.  The final product was clipped to USGS quadrangles and tiles were compressed to produce a Mr.Sid file format.</procdesc>
</procstep>
</lineage>
<cloud>Cloud cover in Providence area is about 40%</cloud>
</dataqual>
<spdoinfo>
<direct Sync="TRUE">Raster</direct>
<rastinfo>
<rasttype Sync="TRUE">Pixel</rasttype>
<rowcount Sync="TRUE">15187</rowcount>
<colcount Sync="TRUE">11392</colcount>
<vrtcount Sync="TRUE">1</vrtcount>
</rastinfo>
</spdoinfo>
<spref>
<horizsys>
<planar>
<gridsys>
<gridsysn>State Plane Coordinate System 1983</gridsysn>
<spcs>
<spcszone>3800</spcszone>
<transmer>
<sfctrmer>0.999994</sfctrmer>
<longcm>-71.500000</longcm>
<latprjo>41.083333</latprjo>
<feast>328083.333333</feast>
<fnorth>0.000000</fnorth>
</transmer>
</spcs>
</gridsys>
<planci>
<plance>coordinate pair</plance>
<coordrep>
<absres>0.000000</absres>
<ordres>0.000000</ordres>
</coordrep>
<plandu>survey feet</plandu>
</planci>
</planar>
<geodetic>
<horizdn>North American Datum of 1983</horizdn>
<ellips>Geodetic Reference System 80</ellips>
<semiaxis>6378137.000000</semiaxis>
<denflat>298.257222</denflat>
</geodetic>
</horizsys>
</spref>
<distinfo>
<distrib>
<cntinfo>
<cntorgp>
<cntorg>University of Rhode Island Environmental Data Center</cntorg>
<cntper>Greg Bonynge</cntper>
</cntorgp>
<cntaddr>
<addrtype>mailing and physical</addrtype>
<address>1 Greenhouse Road</address>
<city>Kingston</city>
<state>RI</state>
<postal>02881</postal>
</cntaddr>
<cntvoice>401-874-2180</cntvoice>
<cntemail>greg@edc.uri.edu</cntemail>
<cntinst>email preferred</cntinst>
</cntinfo>
</distrib>
<resdesc>Downloadable Data</resdesc>
<distliab>No liability for these data is assumed by RIGIS, University of Rhode Island, and the Rhode Island Board of Governors for Higher Education.</distliab>
<stdorder>
<digform>
<digtinfo>
<formname>ESRI shapefile</formname>
</digtinfo>
<digtopt>
<onlinopt>
<computer>
<networka>
<networkr>http://www.edc.uri.edu/rigis</networkr>
</networka>
</computer>
</onlinopt>
</digtopt>
</digform>
<fees>No fee for downloading directly from the RIGIS Data Distribution System located at http://www.edc.uri.edu/rigis.</fees>
</stdorder>
</distinfo>
<metainfo>
<metd Sync="TRUE">20061206</metd>
<metrd>20091106</metrd>
<metc>
<cntinfo>
<cntorgp>
<cntorg>University of Rhode Island - Environmental Data Center</cntorg>
<cntper>Mike Bradley</cntper>
</cntorgp>
<cntpos>Research Associate</cntpos>
<cntaddr>
<addrtype>mailing and physical address</addrtype>
<address>University of Rhode Island</address>
<address>Department of Natural Resources Science</address>
<address>105 Coastal Institute Kingston</address>
<city>Kingston</city>
<state>RI</state>
<postal>02881-0804</postal>
<country>USA</country>
</cntaddr>
<cntvoice>401-874-5054</cntvoice>
<cntemail>mike@edc.uri.edu</cntemail>
</cntinfo>
</metc>
<metstdn Sync="TRUE">FGDC Content Standards for Digital Geospatial Metadata</metstdn>
<metstdv Sync="TRUE">FGDC-STD-001-1998</metstdv>
<mettc Sync="TRUE">local time</mettc>
<metac>None</metac>
<metuc>none</metuc>
<metextns>
<onlink>http://www.esri.com/metadata/esriprof80.html</onlink>
<metprof>ESRI Metadata Profile</metprof>
</metextns>
</metainfo>
</metadata>
