<?xml version="1.0" encoding="UTF-8"?>
<metadata>
<idinfo>
<citation>
<citeinfo>
<origin>Sanborn Colorado LLC</origin>
<origin>US Department of the Interior - USGS</origin>
<origin>Rhode Island Geographic Information System</origin>
<pubdate>2004</pubdate>
<title>2002 USGS True Color Orthophotography</title>
<geoform>remote-sensing image</geoform>
<othercit>Suggested bibliographic reference: RIGIS, 2004. 2002 USGS True Color Orthophotography. Rhode Island Geographic Information System (RIGIS) Data Distribution System, URL: http://www.edc.uri.edu/rigis, Environmental Data Center, University of Rhode Island, Kingston, Rhode Island (last date accessed: 1 February 2010).</othercit>
<onlink>http://www.edc.uri.edu/rigis</onlink>
<lworkcit>
<citeinfo>
<origin>Rhode Island Geographic Information System (RIGIS)</origin>
<pubdate>1993</pubdate>
<title>Rhode Island Geographic Information System (RIGIS) Data Distribution System</title>
<onlink>http://www.edc.uri.edu/rigis</onlink>
</citeinfo>
</lworkcit>
</citeinfo>
</citation>
<descript>
<abstract>An orthoimage consists of remotely sensed image data in which the displacement of features in the image caused by terrain relief and sensor orientation have been mathematically removed. Orthoimagery combines the image characteristics of a photograph with the geometric qualities of a map. For this dataset, the natural color orthoimages were produced at 0.3-meter pixel resolution (approximately 1-foot). The design accuracy is estimated not to exceed 3-meter diagonal RMSE (2.12m RMSE in X or Y). Each orthoimage provides imagery for a 1500- by 1500-meter block on the ground. The original projected coordinate system was UTM with a NAD83 datum. The imagery was projected into the Rhode Island State Plane Coordinate System in U.S. Survey feet by RIGIS. The resulting resolution in this coordinate system is approximately 1 foot. There is no image overlap been adjacent files. RIGIS combined the original USGS image tiles into four square tile mosaic images. The naming convention as designated by RIGIS consists of vertical columns from west to east from 1 through 12 and horizontal rows from a through p. Variations in this naming system were necessary for areas around the edges of the total image data set and where null images were present. The northwest portion of the overall data set contains a column 01 for rows a-g. Where image mosaics varied from the intended four tile components the mosiac image name contains an upper case H for horizontal or an upper case V for vertical followed by a single digit number designating the number of tiles included in the resulting image mosaic.</abstract>
<purpose>These data have been created as a result of the need for having geospatial data immediately available and easily accessible in order to enhance the capability of Federal, State, and local emergency responders, as well as plan for homeland security efforts.</purpose>
<supplinf>RIGIS has compressed the original USGS TIF imagary with commercial (LizardTech Geoexpress MrSid 4.0) software. It will be necessary for users to download plugins, dll files or supporting software from Lizardtech.com or other commercial sites.</supplinf>
</descript>
<timeperd>
<timeinfo>
<sngdate>
<caldate>20020426</caldate>
</sngdate>
</timeinfo>
<current>ground condition</current>
</timeperd>
<status>
<progress>Complete</progress>
<update>None planned</update>
</status>
<spdom>
<bounding>
<westbc>71.7</westbc>
<eastbc>71.2</eastbc>
<northbc>42.1</northbc>
<southbc>41.5</southbc>
</bounding>
</spdom>
<keywords>
<theme>
<themekt>ISO 19115 Topic Category</themekt>
<themekey>imageryBaseMapsEarthCover</themekey>
</theme>
<theme>
<themekt>none</themekt>
<themekey>1 foot orthoimage</themekey>
<themekey>rectified photograph</themekey>
<themekey>rectified image</themekey>
<themekey>orthophoto</themekey>
<themekey>natural color orthophoto</themekey>
<themekey>orthoimage</themekey>
<themekey>image map</themekey>
</theme>
<place>
<placekt>none</placekt>
<placekey>US</placekey>
<placekey>Northeast</placekey>
<placekey>New England</placekey>
<placekey>Rhode Island</placekey>
<placekey>Providence Urban Area</placekey>
</place>
</keywords>
<accconst>
These data as enhanced by RIGIS in MrSID file format are considered Licensed data when obtained for the RIGIS and are distributed under the terms of the RIGIS license agreement. License terms include (1) restrictions on secondary distribution of these data, and (2) graphic displays and printed tabular listings derived from RIGIS data may be used in publications and presentations, provided that credit is given to RIGIS as the source of the information or that notice of copyright [e.g. (c) 2009 RIGIS] be shown. Please review the RIGIS license agreement at http://www.edc.uri.edu/rigis/license.html for more information before accessing these data.

The original imagery is considered public information when obtained from the USGS in their native TIF file format.
</accconst>
<useconst>This dataset is provided for reference only.  These data were created for informational, planning and guidance use only. They are a general reference, not a legally authoritative source for the location of natural or manmade features. Proper interpretation of these data may requre the assistance of appropriate professional services. The cartographic representations depicted have not been verified by a RI Registered Professional Land Surveyor and are not intended to be used in place of a survey. The producer makes no warranty, express or implied, related to the accuracy, reliability, completeness, or currentness of these data. Data from the USGS is considered public information without constraints on its use. Acknowledgment of the U.S. Geological Survey would be appreciated for products derived from these data.</useconst>
<ptcontac>
<cntinfo>
<cntorgp>
<cntorg>University of Rhode Island Environmental Data Center</cntorg>
<cntper>Greg Bonynge</cntper>
</cntorgp>
<cntaddr>
<addrtype>mailing and physical</addrtype>
<address>1 Greenhouse Road</address>
<city>Kingston</city>
<state>RI</state>
<postal>02881</postal>
</cntaddr>
<cntvoice>401-874-2180</cntvoice>
<cntemail>greg@edc.uri.edu</cntemail>
<cntinst>email preferred</cntinst>
</cntinfo>
</ptcontac>
<datacred>US Department of the Interior, United States Geological Survey, Rhode Island Geographic Information System, University of Rhode Island Environmental Data Center, Department of Administration, Statewide Planning Program</datacred>
<native>Microsoft Windows 2000 Version 5.0 (Build 2195) Service Pack 4; ESRI ArcCatalog 8.3.0.800</native>
<crossref>
<citeinfo>
<origin>Sanborn Colorado LLC</origin>
<origin>USGS</origin>
<pubdate>20020426</pubdate>
<title>USGS High Resolution Orthoimage USNG Providence RI-MA</title>
<geoform>remote-sensing image</geoform>
<onlink>www.geodata.gov</onlink>
</citeinfo>
</crossref>
</idinfo>
<dataqual>
<attracc>
<attraccr>During photographic reproduction of the source photographs, limited analog dodging (radiometric editing) is performed to improve image quality. Analog dodging consists of holding back light from certain areas of the sensitized photographic material to avoid overexposure. The diapositive is inspected to ensure clarity and radiometric uniformity. Diapositive image brightness values are collected with a minimum of image quality manipulation. Image brightness values may deviate from the brightness values of the original images because of image value interpolation during the scanning and rectification processes. Radiometry is verified by visual inspection of the digital orthophoto with the original unrectified image to determine if the digital orthophoto has the same or better image quality as the original unrectified input image. Slight systematic radiometric differences can be detected between adjacent orthoimage files; these are due primarily to differences in source photograph capture dates and sun angles along flight lines when the aerial photographs were taken. These differences can be observed in an image&apos;s general lightness or darkness when it is compared to adjacent orthoimage file coverages. Tonal balancing may be performed over a group of images during the mosaicking process which may serve to lighten or darken adjacent images for better color tone matching.</attraccr>
</attracc>
<logic>During photographic reproduction of the source photographs, limited analog dodging (radiometric editing) is performed to improve image quality. Analog dodging consists of holding back light from certain areas of the sensitized photographic material to avoid overexposure. The diapositive is inspected to ensure clarity and radiometric uniformity. Diapositive image brightness values are collected with a minimum of image quality manipulation. Image brightness values may deviate from the brightness values of the original images because of image value interpolation during the scanning and rectification processes. Radiometry is verified by visual inspection of the digital orthophoto with the original unrectified image to determine if the digital orthophoto has the same or better image quality as the original unrectified input image. Slight systematic radiometric differences can be detected between adjacent orthoimage files; these are due primarily to differences in source photograph capture dates and sun angles along flight lines when the aerial photographs were taken. These differences can be observed in an image&apos;s general lightness or darkness when it is compared to adjacent orthoimage file coverages. Tonal balancing may be performed over a group of images during the mosaicking process which may serve to lighten or darken adjacent images for better color tone matching.</logic>
<complete>Complete to publication date</complete>
<posacc>
<horizpa>
<horizpar>The locations of surveyed ground control points were compared with their locations on the GeoTIFF images upon which each point appeared. The distance between the ground control point and the orthophoto location was used to calculate a project-wide RMSE value in ground units.</horizpar>
<qhorizpa>
<horizpav>1.25</horizpav>
<horizpae>The location of surveyed ground control points used were compared with their location on the GeoTIFF image upon which each point appeared. The difference in the ground location vs. the orthophoto location was used to calculate a project-wide RMSE value in ground units. The algorithm used to derive the RMSE value was pulled directly from the NSDI specification sheet entitled &quot;Geospatial Positioning Accuracy Standards Part 3: National Standard for Spatial Data Accuracy&quot;</horizpae>
</qhorizpa>
</horizpa>
</posacc>
<lineage>
<srcinfo>
<srccite>
<citeinfo>
<origin>USGS</origin>
<origin>Sanborn Colorado</origin>
<pubdate>20020426</pubdate>
<title>USGS High Resolution Orthoimagery 2002 RI-MA</title>
<geoform>remote-sensing image</geoform>
<onlink>www.geodata.gov/gos</onlink>
</citeinfo>
</srccite>
<srcscale>15000</srcscale>
<typesrc>stable-base material</typesrc>
<srctime>
<timeinfo>
<sngdate>
<caldate>20020426</caldate>
</sngdate>
</timeinfo>
<srccurr>ground condition</srccurr>
</srctime>
<srccitea>PVD3-109</srccitea>
<srccontr>Source imagery for ortho tile production</srccontr>
</srcinfo>
<procstep>
<procdesc>Ground control was collected in the field to support the accuracy requirements. AeroTriangulation was performed in a softcopy environment. Every exposure was triangulated to meet accuracy requirements. Stereo-compilation was done in either softcopy and/or from diaps to accelerate production. The original USGS DEMs were used as a base, and modified with bridge DTM and additional breaklines where needed to meet the accuracy requirements, or where the terrain had changed. True Ortho DTM (DTM of buildings) were captured only if needed on selected buildings, to meet the building lean requirement in the task order. DTM was then delivered back to the USGS in compliance with the task order. Sanborn used proprietary software called METRO to rectify the scanned images. Rectification was done using cubic convolution resampling. Color balancing was then performed on each exposure. Sanborns software tonally balanced each exposure to alleviate the effects of hotspots, side-to-side shading within an exposure, and tonal differences between flightlines due to dissimilar conditions at the time of capture. Each exposure was then balanced to predefined target values used throughout the project, creating a dataset consistent and uniform in radiometry. Seams between exposures were determined by Sanborns software to use the best exposure based on proximity to nadir and ground angle to the camera. Seams were manually modified only to avoid splitting buildings or to improve feature visibility. Delivery tiles were then extracted from Sanborns seamless imagery database, named to meet the national grid naming convention, and formatted as defined in the task order. Quality control was performed on each tile to ensure no artifacts or anomalies were present in the imagery.</procdesc>
<srcused>PVD</srcused>
<procdate>20040515</procdate>
<srcprod>UTM -19 ortho tiles in TIF format</srcprod>
<proccont>
<cntinfo>
<cntorgp>
<cntorg>USGS EROS Data Center</cntorg>
</cntorgp>
<cntpos>customer service</cntpos>
<cntvoice>605 594 6156</cntvoice>
<cntfax>605 594 6589</cntfax>
<cntemail>custserv@usgs.gov</cntemail>
</cntinfo>
</proccont>
</procstep>
<procstep>
<procdesc>USGS orthophoto images were projected from UTM 19 meters NAD83 to RISPC US Survey feet NAD83 by the Environmental Data Center at the University of Rhode Island</procdesc>
<srcused>UTM-19 in TIF format</srcused>
<procdate>20040515</procdate>
<srcprod>RISPC in feet</srcprod>
<proccont>
<cntinfo>
<cntperp>
<cntper>Roland Duhaime</cntper>
<cntorg>URI/EDC</cntorg>
</cntperp>
<cntpos>Research Assistant</cntpos>
<cntvoice>401-874-5406</cntvoice>
<cntfax>401-874-4561</cntfax>
<cntemail>roland@edc.uri.edu</cntemail>
<hours>M-F 9-4</hours>
</cntinfo>
</proccont>
</procstep>
<procstep>
<procdesc>Individual image tiles in RISPC were mosaiced into four tile structures and compressed at a 25:1 and indexed in a numberic column and alphabetic row sequence by RIGIS at RI Department of Administration Statewide Planning Program to MrSid MG3 file format</procdesc>
<srcused>RISPC feet in TIF format</srcused>
<procdate>20040615</procdate>
<srcprod>RISPC in MrSid Mosaic</srcprod>
<proccont>
<cntinfo>
<cntperp>
<cntper>John Stachelhaus</cntper>
<cntorg>RI Department of Administration Statewide Planning Program</cntorg>
</cntperp>
<cntpos>RIGIS Coordinator</cntpos>
<cntvoice>401 222 6483</cntvoice>
<cntfax>401 222 6482</cntfax>
<cntemail>rigis@admin.ri.gov</cntemail>
<hours>M-F 8-4</hours>
</cntinfo>
</proccont>
</procstep>
<procstep>
<procdesc>Metadata reviewed and updated as necessary.</procdesc>
<procdate>20100201</procdate>
<proccont>
<cntinfo>
<cntorgp>
<cntorg>University of Rhode Island Environmental Data Center</cntorg>
<cntper>Greg Bonynge</cntper>
</cntorgp>
<cntaddr>
<addrtype>mailing and physical</addrtype>
<address>1 Greenhouse Road</address>
<city>Kingston</city>
<state>RI</state>
<postal>02881</postal>
</cntaddr>
<cntvoice>401-874-2180</cntvoice>
<cntemail>greg@edc.uri.edu</cntemail>
<cntinst>email preferred</cntinst>
</cntinfo>
</proccont>
</procstep>
</lineage>
</dataqual>
<spdoinfo>
<direct>Raster</direct>
<rastinfo>
<rasttype>Pixel</rasttype>
<rowcount>10000</rowcount>
<colcount>10000</colcount>
<vrtcount>1</vrtcount>
</rastinfo>
</spdoinfo>
<spref>
<horizsys>
<planar>
<planci>
<plance>row and column</plance>
<coordrep>
<absres>0.984252</absres>
<ordres>0.984252</ordres>
</coordrep>
<plandu>survey feet</plandu>
</planci>
</planar>
<geodetic>
<horizdn>North American Datum of 1983</horizdn>
<ellips>Geodetic Reference System 80</ellips>
<semiaxis>6378137.00</semiaxis>
<denflat>298.25722210088</denflat>
</geodetic>
</horizsys>
</spref>
<eainfo>
<detailed>
<enttyp>
<enttypl>Band_1</enttypl>
</enttyp>
<attr>
<attrlabl>ObjectID</attrlabl>
<attrdef>Internal feature number.</attrdef>
<attrdefs>ESRI</attrdefs>
<attrdomv>
<udom>Sequential unique whole numbers that are automatically generated.</udom>
</attrdomv>
</attr>
<attr>
<attrlabl>Value</attrlabl>
</attr>
<attr>
<attrlabl>Count</attrlabl>
</attr>
</detailed>
<detailed>
<enttyp>
<enttypl>Band_2</enttypl>
</enttyp>
<attr>
<attrlabl>ObjectID</attrlabl>
<attrdef>Internal feature number.</attrdef>
<attrdefs>ESRI</attrdefs>
<attrdomv>
<udom>Sequential unique whole numbers that are automatically generated.</udom>
</attrdomv>
</attr>
<attr>
<attrlabl>Value</attrlabl>
</attr>
<attr>
<attrlabl>Count</attrlabl>
</attr>
</detailed>
<detailed>
<enttyp>
<enttypl>Band_3</enttypl>
</enttyp>
<attr>
<attrlabl>ObjectID</attrlabl>
<attrdef>Internal feature number.</attrdef>
<attrdefs>ESRI</attrdefs>
<attrdomv>
<udom>Sequential unique whole numbers that are automatically generated.</udom>
</attrdomv>
</attr>
<attr>
<attrlabl>Value</attrlabl>
</attr>
<attr>
<attrlabl>Count</attrlabl>
</attr>
</detailed>
</eainfo>
<distinfo>
<distrib>
<cntinfo>
<cntorgp>
<cntorg>University of Rhode Island Environmental Data Center</cntorg>
<cntper>Greg Bonynge</cntper>
</cntorgp>
<cntaddr>
<addrtype>mailing and physical</addrtype>
<address>1 Greenhouse Road</address>
<city>Kingston</city>
<state>RI</state>
<postal>02881</postal>
</cntaddr>
<cntvoice>401-874-2180</cntvoice>
<cntemail>greg@edc.uri.edu</cntemail>
<cntinst>email preferred</cntinst>
</cntinfo>
</distrib>
<resdesc>Downloadable Data</resdesc>
<distliab>No liability for these data is assumed by RIGIS, University of Rhode Island, and the Rhode Island Board of Governors for Higher Education.</distliab>
<stdorder>
<digform>
<digtinfo>
<formname>MrSID</formname>
<transize>12</transize>
</digtinfo>
<digtopt>
<onlinopt>
<computer>
<networka>
<networkr>http://www.edc.uri.edu/rigis</networkr>
</networka>
</computer>
</onlinopt>
</digtopt>
</digform>
<fees>No fee for downloading directly from the RIGIS Data Distribution System located at http://www.edc.uri.edu/rigis.</fees>
</stdorder>
</distinfo>
<metainfo>
<metd>20040629</metd>
<metrd>20100201</metrd>
<metc>
<cntinfo>
<cntorgp>
<cntorg>RI Department of Administration - RIGIS</cntorg>
<cntper>John Stachelhaus</cntper>
</cntorgp>
<cntpos>RIGIS Coordinator</cntpos>
<cntaddr>
<addrtype>mailing and physical address</addrtype>
<address>RI Department of Administration</address>
<address>One Capitol Hill - RIGIS</address>
<city>Providence</city>
<state>RI</state>
<postal>02908-5872</postal>
<country>US</country>
</cntaddr>
<cntvoice>401 222-6483</cntvoice>
<cntfax>401-222-6482</cntfax>
<cntemail>rigis@admin.ri.gov</cntemail>
<hours>M-F 8-4</hours>
</cntinfo>
</metc>
<metstdn>FGDC Content Standards for Digital Geospatial Metadata</metstdn>
<metstdv>FGDC-STD-001-1998</metstdv>
<mettc>local time</mettc>
<metextns>
<onlink>&lt;http://www.esri.com/metadata/esriprof80.html&gt;</onlink>
<metprof>ESRI Metadata Profile</metprof>
</metextns>
</metainfo>
</metadata>
